BEGIN:VCALENDAR
VERSION:2.0
PRODID:-//Spaces of Opportunity - ECPv6.15.20//NONSGML v1.0//EN
CALSCALE:GREGORIAN
METHOD:PUBLISH
X-WR-CALNAME:Spaces of Opportunity
X-ORIGINAL-URL:https://www.spacesofopportunity.org
X-WR-CALDESC:Events for Spaces of Opportunity
REFRESH-INTERVAL;VALUE=DURATION:PT1H
X-Robots-Tag:noindex
X-PUBLISHED-TTL:PT1H
BEGIN:VTIMEZONE
TZID:America/Phoenix
BEGIN:STANDARD
TZOFFSETFROM:-0700
TZOFFSETTO:-0700
TZNAME:MST
DTSTART:20250101T000000
END:STANDARD
END:VTIMEZONE
BEGIN:VEVENT
DTSTART;TZID=America/Phoenix:20260207T100000
DTEND;TZID=America/Phoenix:20260207T113000
DTSTAMP:20260422T071355
CREATED:20231201T114755Z
LAST-MODIFIED:20260123T164332Z
UID:258895-1770458400-1770463800@www.spacesofopportunity.org
SUMMARY:Seed Starting Workshop
DESCRIPTION:seed starting workshop\n						\n						\n						\n					\n				\n					\n				\n				\n				\n			\n				\n				\n			\n				\n				\n				\n				\n				\n				\n				\n				\n				\n				\n				\n				\n				\n				\n				\n				\n				\n				Event Description\nGet a strong start on the growing season by learning the fundamentals of successful seed starting. In this interactive\, hands-on workshop\, participants will explore soil selection\, tray setup\, proper watering techniques\, light requirements\, and when and how to transplant seedlings. \nPerfect for both beginners and experienced gardeners\, this session will build confidence and practical skills for starting plants from seed. Each participant will leave with a seed-starting kit to begin growing at home. \nBUY TICKETS \n\n			\n			\n				\n				\n				\n				\n			\n				\n				\n				\n				\n				\n				\n				\n				\n				\n				\n				\n DATE:\n\n\n\n\nFebruary 7th\, 2026\n\n\n			\n			\n				\n				\n				\n				\n				\n				\n				\n				\n				\n				\n Time:\n\n\n\n\n10:00am - 11:30am\n\n\n			\n			\n				\n				\n				\n				\n				\n				\n				\n				\n				\n				\n Location:\n\n\n\n\n1200 W. Vineyard Ave\, Phoenix\, AZ\n\n\n			\n			\n				\n				\n				\n				\n			\n				\n				\n			\n				\n				\n				\n				\n				\n				\n				\n				\n				\n				\n				\n				\n				\n				\n				\n				\n				\n				How do I join?\nSign up today! \n			\n			\n				\n				\n				\n				\n				\n				Join the Experience\n			\n			\n				\n				\n				\n				\n			\n				\n				\n			\n				\n				\n				\n				\n				\n				\n				\n				\n				\n				\n				\n				\n				\n				\n				\n				\n				\n				Other Events\n			\n			\n				\n				\n				\n				\n			\n				\n				\n				\n				\n				\n				\n				\n				\n				\n				\n							\n			\n																								\n						\n														\n								\n																										\n							\n							\n								Es Viernes y el Cuerpo lo Sabe\n								\n									Apr 24\, 2026								\n								\n									\n                    									 \n								\n							\n						\n					\n																									\n						\n														\n								\n																										\n							\n							\n								Volunteer Service Day\n								\n									Apr 25\, 2026
URL:https://www.spacesofopportunity.org/events/worskhop/
CATEGORIES:Events,Workshop & Classes
ATTACH;FMTTYPE=image/jpeg:https://www.spacesofopportunity.org/wp-content/uploads/2023/12/IMG_9057.jpg
END:VEVENT
BEGIN:VEVENT
DTSTART;TZID=America/Phoenix:20260214T090000
DTEND;TZID=America/Phoenix:20260214T130000
DTSTAMP:20260422T071355
CREATED:20260111T041950Z
LAST-MODIFIED:20260111T041958Z
UID:259438-1771059600-1771074000@www.spacesofopportunity.org
SUMMARY:Farmers Market
DESCRIPTION:Farmers market\n						\n						\n						\n					\n				\n					\n				\n				\n				\n			\n				\n				\n			\n				\n				\n				\n				\n				\n				\n				\n				\n				\n				\n				\n				\n				\n				\n				\n				\n				\n				Event Description\n\n\nCelebrate Love & Friendship at Our February Farmers Market!Join us on February 14 at Spaces of Opportunity for a special farmers market celebrating love\, friendship\, and community. Support local vendors while shopping for fresh\, nutrient-dense produce grown on site using organic and chemical-free practices. Bring the whole family to enjoy a canning workshop\, take a hayride tour of our 19-acre farm\, and connect with the farmers who grow your food. We look forward to celebrating with you! \n\n\n			\n			\n				\n				\n				\n				\n			\n				\n				\n				\n				\n				\n				\n				\n				\n				\n				\n				\n			\n			\n				\n				\n				\n				\n			\n				\n				\n				\n				\n				\n				\n				\n				\n				\n				\n				\n DATE:\n\n\n\n\nFebruary 14th\, 2026\n\n\n			\n			\n				\n				\n				\n				\n				\n				\n				\n				\n				\n				\n Time:\n\n\n\n\n9:00 am - 1:00 pm\n\n\n			\n			\n				\n				\n				\n				\n				\n				\n				\n				\n				\n				\n Location:\n\n\n\n\n1200 W Vineyard Rd Phoenix Az 85041\n\n\n			\n			\n				\n				\n				\n				\n			\n				\n				\n				\n				\n				\n				\n				\n					\n					\n					\n				\n				\n					\n					\n					\n				\n				\n					\n					\n					\n				\n				\n					\n					\n					\n				\n				\n					\n					\n					\n				\n				\n			\n				\n				\n				\n				\n			\n				\n				\n			\n				\n				\n				\n				\n				\n				\n				\n				\n				\n				\n				\n				\n				\n				\n				\n				\n				\n				Other Events\n			\n			\n				\n				\n				\n				\n			\n				\n				\n				\n				\n				\n				\n				\n				\n				\n				\n							\n			\n																								\n						\n														\n								\n																										\n							\n							\n								Es Viernes y el Cuerpo lo Sabe\n								\n									Apr 24\, 2026								\n								\n									\n                    									 \n								\n							\n						\n					\n																									\n						\n														\n								\n																										\n							\n							\n								Volunteer Service Day\n								\n									Apr 25\, 2026
URL:https://www.spacesofopportunity.org/events/farmers-market-9/
CATEGORIES:Events,Farmers Market,Workshop & Classes
ATTACH;FMTTYPE=image/jpeg:https://www.spacesofopportunity.org/wp-content/uploads/2026/01/IMG_9622.jpg
END:VEVENT
BEGIN:VEVENT
DTSTART;TZID=America/Phoenix:20260228T080000
DTEND;TZID=America/Phoenix:20260228T100000
DTSTAMP:20260422T071355
CREATED:20260123T153025Z
LAST-MODIFIED:20260123T154436Z
UID:259433-1772265600-1772272800@www.spacesofopportunity.org
SUMMARY:Volunteer Service Day!
DESCRIPTION:Volunteer service day\n						\n						\n						\n					\n				\n					\n				\n				\n				\n			\n				\n				\n			\n				\n				\n				\n				\n				\n				\n				\n				\n				\n				\n				\n				\n				\n				\n				\n				\n				\n				Event Description\nHave you seen how much Spaces of Opportunity has grown? Thanks to all the helping hands\, our farm and community spaces continue to thrive! Join us and be part of the growth. \nThis is a hands-on volunteer opportunity where teams will help beautify our farm\, gardens\, and outdoor spaces. Tasks include light landscaping\, organizing areas\, and general clean-up. It’s a great way to give back\, strengthen your team\, and enjoy a morning outdoors in a supportive community environment. \nSIGN UP TODAY! \n			\n			\n				\n				\n				\n				\n			\n				\n				\n				\n				\n				\n				\n				\n				\n				\n				\n				\n DATE:\n\n\n\n\nFebruary 28th\, 2026\n\n\n			\n			\n				\n				\n				\n				\n				\n				\n				\n				\n				\n				\n Time:\n\n\n\n\n8:00am - 10:00am\n\n\n			\n			\n				\n				\n				\n				\n				\n				\n				\n				\n				\n				\n Location:\n\n\n\n\n1200 W. Vineyard Ave\, Phoenix\, AZ\n\n\n			\n			\n				\n				\n				\n				\n			\n				\n				\n			\n				\n				\n				\n				\n				\n				\n				\n				\n				\n				\n				\n				\n				\n				\n				\n				\n				\n				How do I join?\nSign up today! \n			\n			\n				\n				\n				\n				\n				\n				Join the Experience\n			\n			\n				\n				\n				\n				\n			\n				\n				\n			\n				\n				\n				\n				\n				\n				\n				\n				\n				\n				\n				\n				\n				\n				\n				\n				\n				\n				Other Events\n			\n			\n				\n				\n				\n				\n			\n				\n				\n				\n				\n				\n				\n				\n				\n				\n				\n							\n			\n																								\n						\n														\n								\n																										\n							\n							\n								Es Viernes y el Cuerpo lo Sabe\n								\n									Apr 24\, 2026								\n								\n									\n                    									 \n								\n							\n						\n					\n																									\n						\n														\n								\n																										\n							\n							\n								Volunteer Service Day\n								\n									Apr 25\, 2026
URL:https://www.spacesofopportunity.org/events/volunteer-3/
CATEGORIES:Events,Workshop & Classes
ATTACH;FMTTYPE=image/jpeg:https://www.spacesofopportunity.org/wp-content/uploads/2026/01/ABOVEAZ-0564-1.jpg
END:VEVENT
END:VCALENDAR