BEGIN:VCALENDAR
VERSION:2.0
PRODID:-//Spaces of Opportunity - ECPv6.15.20//NONSGML v1.0//EN
CALSCALE:GREGORIAN
METHOD:PUBLISH
X-WR-CALNAME:Spaces of Opportunity
X-ORIGINAL-URL:https://www.spacesofopportunity.org
X-WR-CALDESC:Events for Spaces of Opportunity
REFRESH-INTERVAL;VALUE=DURATION:PT1H
X-Robots-Tag:noindex
X-PUBLISHED-TTL:PT1H
BEGIN:VTIMEZONE
TZID:America/Phoenix
BEGIN:STANDARD
TZOFFSETFROM:-0700
TZOFFSETTO:-0700
TZNAME:MST
DTSTART:20250101T000000
END:STANDARD
END:VTIMEZONE
BEGIN:VEVENT
DTSTART;TZID=America/Phoenix:20260328T100000
DTEND;TZID=America/Phoenix:20260328T113000
DTSTAMP:20260422T160848
CREATED:20260124T024443Z
LAST-MODIFIED:20260301T183832Z
UID:259499-1774692000-1774697400@www.spacesofopportunity.org
SUMMARY:Tree Planting Workshop
DESCRIPTION:tree planting workshop\n						\n						\n						\n					\n				\n					\n				\n				\n				\n			\n				\n				\n			\n				\n				\n				\n				\n				\n				\n				\n				\n				\n				\n				\n				\n				\n				\n				\n				\n				\n				Event Description\n\n\nWhether you’re looking to add shade\, beauty\, or food to your yard\, this workshop guides you through the entire process of selecting and establishing the perfect tree. This class will dive into a hands-on demonstration of proper planting techniques\, highlighting the critical differences between handling nursery-potted plants and bare-root specimens. You’ll walk away with the confidence to dig the right hole\, mulch effectively\, and maintain a healthy watering routine to ensure your investment thrives for generations—because while the best time to plant a tree was 20 years ago\, the second best time is today! \nInstructor: Elizabeth Ferguson \n  \n\n\n  \nGET TICKETS! \n\n			\n			\n				\n				\n				\n				\n			\n				\n				\n				\n				\n				\n				\n				\n				\n				\n				\n				\n DATE:\n\n\n\n\nMarch 28th\, 2026\n\n\n			\n			\n				\n				\n				\n				\n				\n				\n				\n				\n				\n				\n Time:\n\n\n\n\n10:00am - 11:30am\n\n\n			\n			\n				\n				\n				\n				\n				\n				\n				\n				\n				\n				\n Location:\n\n\n\n\n1200 W. Vineyard Ave\, Phoenix\, AZ\n\n\n			\n			\n				\n				\n				\n				\n			\n				\n				\n			\n				\n				\n				\n				\n				\n				\n				\n				\n				\n				\n				\n				\n				\n				\n				\n				\n				\n				How do I join?\nSign up today! \n			\n			\n				\n				\n				\n				\n				\n				Join the Experience\n			\n			\n				\n				\n				\n				\n			\n				\n				\n			\n				\n				\n				\n				\n				\n				\n				\n				\n				\n				\n				\n				\n				\n				\n				\n				\n				\n				Other Events\n			\n			\n				\n				\n				\n				\n			\n				\n				\n				\n				\n				\n				\n				\n				\n				\n				\n							\n			\n																								\n						\n														\n								\n																										\n							\n							\n								Es Viernes y el Cuerpo lo Sabe\n								\n									Apr 24\, 2026								\n								\n									\n                    Join us for a FREE Latin fitness dance class full of energy\, rhythm\, and fun. Whether you're a beginner or already love to dance\,...									 \n								\n							\n						\n					\n																									\n						\n														\n								\n																										\n							\n							\n								Volunteer Service Day\n								\n									Apr 25\, 2026								\n								\n									\n                    Join us for a FREE Latin fitness dance class full of energy\, rhythm\, and fun. Whether you're a beginner or already love to dance\,...									 \n								\n							\n						\n					\n																									\n						\n														\n								\n																										\n							\n							\n								Permaculture Yard Design workshop\n								\n									Apr 25\, 2026								\n								\n									\n                    Join us for a FREE Latin fitness dance class full of energy\, rhythm\, and fun. Whether you're a beginner or already love to dance\,...
URL:https://www.spacesofopportunity.org/events/treeplanting-workshop/
CATEGORIES:Events,Workshop & Classes
ATTACH;FMTTYPE=image/jpeg:https://www.spacesofopportunity.org/wp-content/uploads/2022/04/plantatree.jpg
END:VEVENT
BEGIN:VEVENT
DTSTART;TZID=America/Phoenix:20260403T090000
DTEND;TZID=America/Phoenix:20260403T100000
DTSTAMP:20260422T160848
CREATED:20260304T161054Z
LAST-MODIFIED:20260304T161854Z
UID:259522-1775206800-1775210400@www.spacesofopportunity.org
SUMMARY:Es Viernes y el Cuerpo lo Sabe
DESCRIPTION:Es Viernes y el Cuerpo lo Sabe\n						\n						\n						\n					\n				\n					\n				\n				\n				\n			\n				\n				\n			\n				\n				\n				\n				\n				\n				\n				\n				\n				\n				\n				\n				\n				\n				\n				\n				\n				\n				Event Description\n\n\n“It’s Friday and Your Body Knows It” – Latin fitness Dance Class \n“It’s Friday… and your body knows it!” \nJoin us for a FREE Latin dance class full of energy\, rhythm\, and fun. Whether you’re a beginner or already love to dance\, this class is for everyone. \nThe class will be held in our outdoor market area\, so get ready to dance outside and enjoy the community vibe. Free and open to all.Wear your tennis shoes. Please arrive 5 minutes early to check in \nWe can’t wait to see you on the dance floor!  \n\n\n\n			\n			\n				\n				\n				\n				\n			\n				\n				\n				\n				\n				\n				\n				\n				\n				\n				\n				\n			\n			\n				\n				\n				\n				\n			\n				\n				\n				\n				\n				\n				\n				\n				\n				\n				\n				\n  DATE:\n\n\nApril 3rd\, 2026\n\n			\n			\n				\n				\n				\n				\n				\n				\n				\n				\n				\n				\n  Time:\n\n\n9:00 am - 10:00 am\n\n			\n			\n				\n				\n				\n				\n				\n				\n				\n				\n				\n				\n  Location:\n\n\n1200 W Vineyard Rd Phoenix Az 85041\n\n			\n			\n				\n				\n				\n				\n			\n				\n				\n			\n				\n				\n				\n				\n				\n				\n				\n				\n				\n				\n				\n				\n				\n				\n				\n				\n				\n				Other Events\n			\n			\n				\n				\n				\n				\n			\n				\n				\n				\n				\n				\n				\n				\n				\n				\n				\n							\n			\n																								\n						\n														\n								\n																										\n							\n							\n								Es Viernes y el Cuerpo lo Sabe\n								\n									Apr 24\, 2026								\n								\n									\n                    Join us for a FREE Latin fitness dance class full of energy\, rhythm\, and fun. Whether you're a beginner or already love to dance\,...									 \n								\n							\n						\n					\n																									\n						\n														\n								\n																										\n							\n							\n								Volunteer Service Day\n								\n									Apr 25\, 2026								\n								\n									\n                    Join us for a FREE Latin fitness dance class full of energy\, rhythm\, and fun. Whether you're a beginner or already love to dance\,...									 \n								\n							\n						\n					\n																									\n						\n														\n								\n																										\n							\n							\n								Permaculture Yard Design workshop\n								\n									Apr 25\, 2026								\n								\n									\n                    Join us for a FREE Latin fitness dance class full of energy\, rhythm\, and fun. Whether you're a beginner or already love to dance\,...
URL:https://www.spacesofopportunity.org/events/dance-fitness/
CATEGORIES:Events,Farmers Market,Workshop & Classes
ATTACH;FMTTYPE=image/jpeg:https://www.spacesofopportunity.org/wp-content/uploads/2026/03/IMG_0047.jpg
END:VEVENT
BEGIN:VEVENT
DTSTART;TZID=America/Phoenix:20260404T080000
DTEND;TZID=America/Phoenix:20260404T120000
DTSTAMP:20260422T160848
CREATED:20260111T040425Z
LAST-MODIFIED:20260123T153952Z
UID:259434-1775289600-1775304000@www.spacesofopportunity.org
SUMMARY:Volunteer Service Day
DESCRIPTION:volunteer service day\n						\n						\n						\n					\n				\n					\n				\n				\n				\n			\n				\n				\n			\n				\n				\n				\n				\n				\n				\n				\n				\n				\n				\n				\n				\n				\n				\n				\n				\n				\n				Event Description\nJoin us for a Volunteer Service Day at Spaces of Opportunity on Saturday\, April 4\, 2026\, from 8:00–11:00 AM. Volunteers will help beautify our 19-acre working farm while connecting with community and supporting local food systems. This is a hands-on\, outdoor experience\,  light refreshments and coffee will be provided. The activity is recommended for ages 12 and older. We welcome individuals and groups who are ready to make a meaningful impact—come grow \nSIGN UP TODAY \n			\n			\n				\n				\n				\n				\n			\n				\n				\n				\n				\n				\n				\n				\n				\n				\n				\n				\n DATE:\n\n\n\n\n\n\nApril 4th\, 2026\n\n\n\n			\n			\n				\n				\n				\n				\n				\n				\n				\n				\n				\n				\n Time:\n\n\n\n\n\n\n8:00am - 12:00pm\n\n\n\n			\n			\n				\n				\n				\n				\n				\n				\n				\n				\n				\n				\n Location:\n\n\n\n\n\n\n1200 W. Vineyard Ave\, Phoenix\, AZ\n\n\n\n			\n			\n				\n				\n				\n				\n			\n				\n				\n			\n				\n				\n				\n				\n				\n				\n				\n				\n				\n				\n				\n				\n				\n				\n				\n				\n				\n				How do I join?\nSign up today! \n			\n			\n				\n				\n				\n				\n				\n				Join the Experience\n			\n			\n				\n				\n				\n				\n			\n				\n				\n			\n				\n				\n				\n				\n				\n				\n				\n				\n				\n				\n				\n				\n				\n				\n				\n				\n				\n				Other Events\n			\n			\n				\n				\n				\n				\n			\n				\n				\n				\n				\n				\n				\n				\n				\n				\n				\n							\n			\n																								\n						\n														\n								\n																										\n							\n							\n								Es Viernes y el Cuerpo lo Sabe\n								\n									Apr 24\, 2026								\n								\n									\n                    Join us for a FREE Latin fitness dance class full of energy\, rhythm\, and fun. Whether you're a beginner or already love to dance\,...									 \n								\n							\n						\n					\n																									\n						\n														\n								\n																										\n							\n							\n								Volunteer Service Day\n								\n									Apr 25\, 2026								\n								\n									\n                    Join us for a FREE Latin fitness dance class full of energy\, rhythm\, and fun. Whether you're a beginner or already love to dance\,...									 \n								\n							\n						\n					\n																									\n						\n														\n								\n																										\n							\n							\n								Permaculture Yard Design workshop\n								\n									Apr 25\, 2026								\n								\n									\n                    Join us for a FREE Latin fitness dance class full of energy\, rhythm\, and fun. Whether you're a beginner or already love to dance\,...
URL:https://www.spacesofopportunity.org/events/volunteer-day/
CATEGORIES:Events,Workshop & Classes
ATTACH;FMTTYPE=image/jpeg:https://www.spacesofopportunity.org/wp-content/uploads/2025/12/IMG_9089.jpg
END:VEVENT
BEGIN:VEVENT
DTSTART;TZID=America/Phoenix:20260410T090000
DTEND;TZID=America/Phoenix:20260410T100000
DTSTAMP:20260422T160848
CREATED:20260304T163124Z
LAST-MODIFIED:20260304T163222Z
UID:259529-1775811600-1775815200@www.spacesofopportunity.org
SUMMARY:Es Viernes y el Cuerpo lo Sabe
DESCRIPTION:Es Viernes y el Cuerpo lo Sabe\n						\n						\n						\n					\n				\n					\n				\n				\n				\n			\n				\n				\n			\n				\n				\n				\n				\n				\n				\n				\n				\n				\n				\n				\n				\n				\n				\n				\n				\n				\n				Event Description\n\n\n“It’s Friday and Your Body Knows It” – Latin fitness Dance Class \n“It’s Friday… and your body knows it!” \nJoin us for a FREE Latin dance class full of energy\, rhythm\, and fun. Whether you’re a beginner or already love to dance\, this class is for everyone. \nThe class will be held in our outdoor market area\, so get ready to dance outside and enjoy the community vibe. Free and open to all.Wear your tennis shoes. Please arrive 5 minutes early to check in \nWe can’t wait to see you on the dance floor!  \n\n\n\n			\n			\n				\n				\n				\n				\n			\n				\n				\n				\n				\n				\n				\n				\n				\n				\n				\n				\n			\n			\n				\n				\n				\n				\n			\n				\n				\n				\n				\n				\n				\n				\n				\n				\n				\n				\n  DATE:\n\n\nApril 10th\, 2026\n\n			\n			\n				\n				\n				\n				\n				\n				\n				\n				\n				\n				\n  Time:\n\n\n9:00 am - 10:00 am\n\n			\n			\n				\n				\n				\n				\n				\n				\n				\n				\n				\n				\n  Location:\n\n\n1200 W Vineyard Rd Phoenix Az 85041\n\n			\n			\n				\n				\n				\n				\n			\n				\n				\n			\n				\n				\n				\n				\n				\n				\n				\n				\n				\n				\n				\n				\n				\n				\n				\n				\n				\n				Other Events\n			\n			\n				\n				\n				\n				\n			\n				\n				\n				\n				\n				\n				\n				\n				\n				\n				\n							\n			\n																								\n						\n														\n								\n																										\n							\n							\n								Es Viernes y el Cuerpo lo Sabe\n								\n									Apr 24\, 2026								\n								\n									\n                    Join us for a FREE Latin fitness dance class full of energy\, rhythm\, and fun. Whether you're a beginner or already love to dance\,...									 \n								\n							\n						\n					\n																									\n						\n														\n								\n																										\n							\n							\n								Volunteer Service Day\n								\n									Apr 25\, 2026								\n								\n									\n                    Join us for a FREE Latin fitness dance class full of energy\, rhythm\, and fun. Whether you're a beginner or already love to dance\,...									 \n								\n							\n						\n					\n																									\n						\n														\n								\n																										\n							\n							\n								Permaculture Yard Design workshop\n								\n									Apr 25\, 2026								\n								\n									\n                    Join us for a FREE Latin fitness dance class full of energy\, rhythm\, and fun. Whether you're a beginner or already love to dance\,...
URL:https://www.spacesofopportunity.org/events/es-viernes-y-el-cuerpo-lo-sabe/
CATEGORIES:Events,Farmers Market,Workshop & Classes
ATTACH;FMTTYPE=image/jpeg:https://www.spacesofopportunity.org/wp-content/uploads/2026/03/IMG_0047.jpg
END:VEVENT
BEGIN:VEVENT
DTSTART;TZID=America/Phoenix:20260411T090000
DTEND;TZID=America/Phoenix:20260411T130000
DTSTAMP:20260422T160848
CREATED:20260304T155616Z
LAST-MODIFIED:20260304T160048Z
UID:259519-1775898000-1775912400@www.spacesofopportunity.org
SUMMARY:Farmers Market
DESCRIPTION:Farmers market\n						\n						\n						\n					\n				\n					\n				\n				\n				\n			\n				\n				\n			\n				\n				\n				\n				\n				\n				\n				\n				\n				\n				\n				\n				\n				\n				\n				\n				\n				\n				Event Description\n\n\nCome out to Spaces of Opportunity for our Farmers Market! Enjoy fresh local produce\, handmade goods from local vendors\, and hayrides for the whole family. Enjoy Stories from the Heart: Food that brings us together. A beautiful and impacful storytelling hour from 10-11 am. Bring your friends and family for a fun\, community-focused morning you won’t want to miss! \n\n\n\n			\n			\n				\n				\n				\n				\n			\n				\n				\n				\n				\n				\n				\n				\n				\n				\n				\n				\n			\n			\n				\n				\n				\n				\n			\n				\n				\n				\n				\n				\n				\n				\n				\n				\n				\n				\n  DATE:\n\n\nMarch 14th\, 2026\n\n			\n			\n				\n				\n				\n				\n				\n				\n				\n				\n				\n				\n  Time:\n\n\n9:00 am - 1:00 pm\n\n			\n			\n				\n				\n				\n				\n				\n				\n				\n				\n				\n				\n  Location:\n\n\n1200 W Vineyard Rd Phoenix Az 85041\n\n			\n			\n				\n				\n				\n				\n			\n				\n				\n				\n				\n				\n				\n				\n					\n					\n					\n				\n				\n					\n					\n					\n				\n				\n					\n					\n					\n				\n				\n					\n					\n					\n				\n				\n			\n				\n				\n				\n				\n			\n				\n				\n			\n				\n				\n				\n				\n				\n				\n				\n				\n				\n				\n				\n				\n				\n				\n				\n				\n				\n				Other Events\n			\n			\n				\n				\n				\n				\n			\n				\n				\n				\n				\n				\n				\n				\n				\n				\n				\n							\n			\n																								\n						\n														\n								\n																										\n							\n							\n								Es Viernes y el Cuerpo lo Sabe\n								\n									Apr 24\, 2026								\n								\n									\n                    Join us for a FREE Latin fitness dance class full of energy\, rhythm\, and fun. Whether you're a beginner or already love to dance\,...									 \n								\n							\n						\n					\n																									\n						\n														\n								\n																										\n							\n							\n								Volunteer Service Day\n								\n									Apr 25\, 2026								\n								\n									\n                    Join us for a FREE Latin fitness dance class full of energy\, rhythm\, and fun. Whether you're a beginner or already love to dance\,...									 \n								\n							\n						\n					\n																									\n						\n														\n								\n																										\n							\n							\n								Permaculture Yard Design workshop\n								\n									Apr 25\, 2026								\n								\n									\n                    Join us for a FREE Latin fitness dance class full of energy\, rhythm\, and fun. Whether you're a beginner or already love to dance\,...
URL:https://www.spacesofopportunity.org/events/farmers-market-11/
CATEGORIES:Events,Farmers Market,Workshop & Classes
ATTACH;FMTTYPE=image/jpeg:https://www.spacesofopportunity.org/wp-content/uploads/2026/01/IMG_7093.jpg
END:VEVENT
BEGIN:VEVENT
DTSTART;TZID=America/Phoenix:20260424T090000
DTEND;TZID=America/Phoenix:20260424T100000
DTSTAMP:20260422T160848
CREATED:20260304T163323Z
LAST-MODIFIED:20260304T163408Z
UID:259531-1777021200-1777024800@www.spacesofopportunity.org
SUMMARY:Es Viernes y el Cuerpo lo Sabe
DESCRIPTION:Es Viernes y el Cuerpo lo Sabe\n						\n						\n						\n					\n				\n					\n				\n				\n				\n			\n				\n				\n			\n				\n				\n				\n				\n				\n				\n				\n				\n				\n				\n				\n				\n				\n				\n				\n				\n				\n				Event Description\n\n\n“It’s Friday and Your Body Knows It” – Latin fitness Dance Class \n“It’s Friday… and your body knows it!” \nJoin us for a FREE Latin dance class full of energy\, rhythm\, and fun. Whether you’re a beginner or already love to dance\, this class is for everyone. \nThe class will be held in our outdoor market area\, so get ready to dance outside and enjoy the community vibe. Free and open to all.Wear your tennis shoes. Please arrive 5 minutes early to check in \nWe can’t wait to see you on the dance floor!  \n\n\n\n			\n			\n				\n				\n				\n				\n			\n				\n				\n				\n				\n				\n				\n				\n				\n				\n				\n				\n			\n			\n				\n				\n				\n				\n			\n				\n				\n				\n				\n				\n				\n				\n				\n				\n				\n				\n  DATE:\n\n\nApril 24th\, 2026\n\n			\n			\n				\n				\n				\n				\n				\n				\n				\n				\n				\n				\n  Time:\n\n\n9:00 am - 10:00 am\n\n			\n			\n				\n				\n				\n				\n				\n				\n				\n				\n				\n				\n  Location:\n\n\n1200 W Vineyard Rd Phoenix Az 85041\n\n			\n			\n				\n				\n				\n				\n			\n				\n				\n			\n				\n				\n				\n				\n				\n				\n				\n				\n				\n				\n				\n				\n				\n				\n				\n				\n				\n				Other Events\n			\n			\n				\n				\n				\n				\n			\n				\n				\n				\n				\n				\n				\n				\n				\n				\n				\n							\n			\n																								\n						\n														\n								\n																										\n							\n							\n								Es Viernes y el Cuerpo lo Sabe\n								\n									Apr 24\, 2026								\n								\n									\n                    Join us for a FREE Latin fitness dance class full of energy\, rhythm\, and fun. Whether you're a beginner or already love to dance\,...									 \n								\n							\n						\n					\n																									\n						\n														\n								\n																										\n							\n							\n								Volunteer Service Day\n								\n									Apr 25\, 2026								\n								\n									\n                    Join us for a FREE Latin fitness dance class full of energy\, rhythm\, and fun. Whether you're a beginner or already love to dance\,...									 \n								\n							\n						\n					\n																									\n						\n														\n								\n																										\n							\n							\n								Permaculture Yard Design workshop\n								\n									Apr 25\, 2026								\n								\n									\n                    Join us for a FREE Latin fitness dance class full of energy\, rhythm\, and fun. Whether you're a beginner or already love to dance\,...
URL:https://www.spacesofopportunity.org/events/es-viernes-y-el-cuerpo-lo-sabe-2/
CATEGORIES:Events,Farmers Market,Workshop & Classes
ATTACH;FMTTYPE=image/jpeg:https://www.spacesofopportunity.org/wp-content/uploads/2026/03/IMG_0047.jpg
END:VEVENT
BEGIN:VEVENT
DTSTART;TZID=America/Phoenix:20260425T080000
DTEND;TZID=America/Phoenix:20260425T100000
DTSTAMP:20260422T160848
CREATED:20260304T163639Z
LAST-MODIFIED:20260304T164012Z
UID:259533-1777104000-1777111200@www.spacesofopportunity.org
SUMMARY:Volunteer Service Day
DESCRIPTION:volunteer service day\n						\n						\n						\n					\n				\n					\n				\n				\n				\n			\n				\n				\n			\n				\n				\n				\n				\n				\n				\n				\n				\n				\n				\n				\n				\n				\n				\n				\n				\n				\n				Event Description\nJoin us for a Volunteer Service Day at Spaces of Opportunity. Volunteers will help beautify our 19-acre working farm while connecting with community and supporting local food systems. This is a hands-on\, outdoor experience\,  light refreshments and coffee will be provided. The activity is recommended for ages 12 and older. We welcome individuals and groups who are ready to make a meaningful impact—come grow \nSIGN UP TODAY \n			\n			\n				\n				\n				\n				\n			\n				\n				\n				\n				\n				\n				\n				\n				\n				\n				\n				\n DATE:\n\n\n\n\n\n\nApril 25th\, 2026\n\n\n\n			\n			\n				\n				\n				\n				\n				\n				\n				\n				\n				\n				\n Time:\n\n\n\n\n\n\n8:00am - 10:00am\n\n\n\n			\n			\n				\n				\n				\n				\n				\n				\n				\n				\n				\n				\n Location:\n\n\n\n\n\n\n1200 W. Vineyard Ave\, Phoenix\, AZ\n\n\n\n			\n			\n				\n				\n				\n				\n			\n				\n				\n			\n				\n				\n				\n				\n				\n				\n				\n				\n				\n				\n				\n				\n				\n				\n				\n				\n				\n				How do I join?\nSign up today! \n			\n			\n				\n				\n				\n				\n				\n				Join the Experience\n			\n			\n				\n				\n				\n				\n			\n				\n				\n			\n				\n				\n				\n				\n				\n				\n				\n				\n				\n				\n				\n				\n				\n				\n				\n				\n				\n				Other Events\n			\n			\n				\n				\n				\n				\n			\n				\n				\n				\n				\n				\n				\n				\n				\n				\n				\n							\n			\n																								\n						\n														\n								\n																										\n							\n							\n								Es Viernes y el Cuerpo lo Sabe\n								\n									Apr 24\, 2026								\n								\n									\n                    Join us for a FREE Latin fitness dance class full of energy\, rhythm\, and fun. Whether you're a beginner or already love to dance\,...									 \n								\n							\n						\n					\n																									\n						\n														\n								\n																										\n							\n							\n								Volunteer Service Day\n								\n									Apr 25\, 2026								\n								\n									\n                    Join us for a FREE Latin fitness dance class full of energy\, rhythm\, and fun. Whether you're a beginner or already love to dance\,...									 \n								\n							\n						\n					\n																									\n						\n														\n								\n																										\n							\n							\n								Permaculture Yard Design workshop\n								\n									Apr 25\, 2026								\n								\n									\n                    Join us for a FREE Latin fitness dance class full of energy\, rhythm\, and fun. Whether you're a beginner or already love to dance\,...
URL:https://www.spacesofopportunity.org/events/volunteer-service-day/
CATEGORIES:Events,Workshop & Classes
ATTACH;FMTTYPE=image/jpeg:https://www.spacesofopportunity.org/wp-content/uploads/2025/12/IMG_9089.jpg
END:VEVENT
BEGIN:VEVENT
DTSTART;TZID=America/Phoenix:20260425T100000
DTEND;TZID=America/Phoenix:20260425T113000
DTSTAMP:20260422T160848
CREATED:20260403T072230Z
LAST-MODIFIED:20260403T072705Z
UID:259542-1777111200-1777116600@www.spacesofopportunity.org
SUMMARY:Permaculture Yard Design workshop
DESCRIPTION:permaculture Yard Design workshop\n						\n						\n						\n					\n				\n					\n				\n				\n				\n			\n				\n				\n			\n				\n				\n				\n				\n				\n				\n				\n				\n				\n				\n				\n				\n				\n				\n				\n				\n				\n				Event Description\n\nDiscover how to design a productive and sustainable yard using permaculture principles. Participants will learn the basics of permaculture\, including working with natural systems\, thoughtful plant placement\, and creating resilient landscapes that require fewer inputs over time. This workshop is ideal for homeowners and gardeners interested in transforming their yards into efficient\, eco-friendly spaces that provide beauty and function. \nInstructor: Elizabeth Ferguson \n  \n\n Get tickets! \n\n			\n			\n				\n				\n				\n				\n			\n				\n				\n				\n				\n				\n				\n				\n				\n				\n				\n				\n DATE:\n\n\n\n\nApril 25th\, 2026\n\n\n			\n			\n				\n				\n				\n				\n				\n				\n				\n				\n				\n				\n Time:\n\n\n\n\n10:00am - 11:30am\n\n\n			\n			\n				\n				\n				\n				\n				\n				\n				\n				\n				\n				\n Location:\n\n\n\n\n1200 W. Vineyard Ave\, Phoenix\, AZ\n\n\n			\n			\n				\n				\n				\n				\n			\n				\n				\n			\n				\n				\n				\n				\n				\n				\n				\n				\n				\n				\n				\n				\n				\n				\n				\n				\n				\n				How do I join?\nSign up today! \n			\n			\n				\n				\n				\n				\n				\n				Join the Experience\n			\n			\n				\n				\n				\n				\n			\n				\n				\n			\n				\n				\n				\n				\n				\n				\n				\n				\n				\n				\n				\n				\n				\n				\n				\n				\n				\n				Other Events\n			\n			\n				\n				\n				\n				\n			\n				\n				\n				\n				\n				\n				\n				\n				\n				\n				\n							\n			\n																								\n						\n														\n								\n																										\n							\n							\n								Es Viernes y el Cuerpo lo Sabe\n								\n									Apr 24\, 2026								\n								\n									\n                    Join us for a FREE Latin fitness dance class full of energy\, rhythm\, and fun. Whether you're a beginner or already love to dance\,...									 \n								\n							\n						\n					\n																									\n						\n														\n								\n																										\n							\n							\n								Volunteer Service Day\n								\n									Apr 25\, 2026								\n								\n									\n                    Join us for a FREE Latin fitness dance class full of energy\, rhythm\, and fun. Whether you're a beginner or already love to dance\,...									 \n								\n							\n						\n					\n																									\n						\n														\n								\n																										\n							\n							\n								Permaculture Yard Design workshop\n								\n									Apr 25\, 2026								\n								\n									\n                    Join us for a FREE Latin fitness dance class full of energy\, rhythm\, and fun. Whether you're a beginner or already love to dance\,...
URL:https://www.spacesofopportunity.org/events/permaculture-workshop/
CATEGORIES:Events,Workshop & Classes
ATTACH;FMTTYPE=image/jpeg:https://www.spacesofopportunity.org/wp-content/uploads/2026/01/ABOVEAZ-0627-scaled.jpg
END:VEVENT
END:VCALENDAR