BEGIN:VCALENDAR
VERSION:2.0
PRODID:-//Spaces of Opportunity - ECPv6.15.20//NONSGML v1.0//EN
CALSCALE:GREGORIAN
METHOD:PUBLISH
X-WR-CALNAME:Spaces of Opportunity
X-ORIGINAL-URL:https://www.spacesofopportunity.org
X-WR-CALDESC:Events for Spaces of Opportunity
REFRESH-INTERVAL;VALUE=DURATION:PT1H
X-Robots-Tag:noindex
X-PUBLISHED-TTL:PT1H
BEGIN:VTIMEZONE
TZID:America/Phoenix
BEGIN:STANDARD
TZOFFSETFROM:-0700
TZOFFSETTO:-0700
TZNAME:MST
DTSTART:20250101T000000
END:STANDARD
END:VTIMEZONE
BEGIN:VEVENT
DTSTART;TZID=America/Phoenix:20260425T080000
DTEND;TZID=America/Phoenix:20260425T100000
DTSTAMP:20260423T004055
CREATED:20260304T163639Z
LAST-MODIFIED:20260304T164012Z
UID:259533-1777104000-1777111200@www.spacesofopportunity.org
SUMMARY:Volunteer Service Day
DESCRIPTION:volunteer service day\n						\n						\n						\n					\n				\n					\n				\n				\n				\n			\n				\n				\n			\n				\n				\n				\n				\n				\n				\n				\n				\n				\n				\n				\n				\n				\n				\n				\n				\n				\n				Event Description\nJoin us for a Volunteer Service Day at Spaces of Opportunity. Volunteers will help beautify our 19-acre working farm while connecting with community and supporting local food systems. This is a hands-on\, outdoor experience\,  light refreshments and coffee will be provided. The activity is recommended for ages 12 and older. We welcome individuals and groups who are ready to make a meaningful impact—come grow \nSIGN UP TODAY \n			\n			\n				\n				\n				\n				\n			\n				\n				\n				\n				\n				\n				\n				\n				\n				\n				\n				\n DATE:\n\n\n\n\n\n\nApril 25th\, 2026\n\n\n\n			\n			\n				\n				\n				\n				\n				\n				\n				\n				\n				\n				\n Time:\n\n\n\n\n\n\n8:00am - 10:00am\n\n\n\n			\n			\n				\n				\n				\n				\n				\n				\n				\n				\n				\n				\n Location:\n\n\n\n\n\n\n1200 W. Vineyard Ave\, Phoenix\, AZ\n\n\n\n			\n			\n				\n				\n				\n				\n			\n				\n				\n			\n				\n				\n				\n				\n				\n				\n				\n				\n				\n				\n				\n				\n				\n				\n				\n				\n				\n				How do I join?\nSign up today! \n			\n			\n				\n				\n				\n				\n				\n				Join the Experience\n			\n			\n				\n				\n				\n				\n			\n				\n				\n			\n				\n				\n				\n				\n				\n				\n				\n				\n				\n				\n				\n				\n				\n				\n				\n				\n				\n				Other Events\n			\n			\n				\n				\n				\n				\n			\n				\n				\n				\n				\n				\n				\n				\n				\n				\n				\n							\n			\n																								\n						\n														\n								\n																										\n							\n							\n								Es Viernes y el Cuerpo lo Sabe\n								\n									Apr 24\, 2026								\n								\n									\n                    Farmers Market with fresh local grown produce\, vendors\, food\, and more. Let's support our community!									 \n								\n							\n						\n					\n																									\n						\n														\n								\n																										\n							\n							\n								Volunteer Service Day\n								\n									Apr 25\, 2026								\n								\n									\n                    Farmers Market with fresh local grown produce\, vendors\, food\, and more. Let's support our community!									 \n								\n							\n						\n					\n																									\n						\n														\n								\n																										\n							\n							\n								Permaculture Yard Design workshop\n								\n									Apr 25\, 2026								\n								\n									\n                    Farmers Market with fresh local grown produce\, vendors\, food\, and more. Let's support our community!
URL:https://www.spacesofopportunity.org/events/volunteer-service-day/
CATEGORIES:Events,Workshop & Classes
ATTACH;FMTTYPE=image/jpeg:https://www.spacesofopportunity.org/wp-content/uploads/2025/12/IMG_9089.jpg
END:VEVENT
BEGIN:VEVENT
DTSTART;TZID=America/Phoenix:20260425T100000
DTEND;TZID=America/Phoenix:20260425T113000
DTSTAMP:20260423T004055
CREATED:20260403T072230Z
LAST-MODIFIED:20260403T072705Z
UID:259542-1777111200-1777116600@www.spacesofopportunity.org
SUMMARY:Permaculture Yard Design workshop
DESCRIPTION:permaculture Yard Design workshop\n						\n						\n						\n					\n				\n					\n				\n				\n				\n			\n				\n				\n			\n				\n				\n				\n				\n				\n				\n				\n				\n				\n				\n				\n				\n				\n				\n				\n				\n				\n				Event Description\n\nDiscover how to design a productive and sustainable yard using permaculture principles. Participants will learn the basics of permaculture\, including working with natural systems\, thoughtful plant placement\, and creating resilient landscapes that require fewer inputs over time. This workshop is ideal for homeowners and gardeners interested in transforming their yards into efficient\, eco-friendly spaces that provide beauty and function. \nInstructor: Elizabeth Ferguson \n  \n\n Get tickets! \n\n			\n			\n				\n				\n				\n				\n			\n				\n				\n				\n				\n				\n				\n				\n				\n				\n				\n				\n DATE:\n\n\n\n\nApril 25th\, 2026\n\n\n			\n			\n				\n				\n				\n				\n				\n				\n				\n				\n				\n				\n Time:\n\n\n\n\n10:00am - 11:30am\n\n\n			\n			\n				\n				\n				\n				\n				\n				\n				\n				\n				\n				\n Location:\n\n\n\n\n1200 W. Vineyard Ave\, Phoenix\, AZ\n\n\n			\n			\n				\n				\n				\n				\n			\n				\n				\n			\n				\n				\n				\n				\n				\n				\n				\n				\n				\n				\n				\n				\n				\n				\n				\n				\n				\n				How do I join?\nSign up today! \n			\n			\n				\n				\n				\n				\n				\n				Join the Experience\n			\n			\n				\n				\n				\n				\n			\n				\n				\n			\n				\n				\n				\n				\n				\n				\n				\n				\n				\n				\n				\n				\n				\n				\n				\n				\n				\n				Other Events\n			\n			\n				\n				\n				\n				\n			\n				\n				\n				\n				\n				\n				\n				\n				\n				\n				\n							\n			\n																								\n						\n														\n								\n																										\n							\n							\n								Es Viernes y el Cuerpo lo Sabe\n								\n									Apr 24\, 2026								\n								\n									\n                    Farmers Market with fresh local grown produce\, vendors\, food\, and more. Let's support our community!									 \n								\n							\n						\n					\n																									\n						\n														\n								\n																										\n							\n							\n								Volunteer Service Day\n								\n									Apr 25\, 2026								\n								\n									\n                    Farmers Market with fresh local grown produce\, vendors\, food\, and more. Let's support our community!									 \n								\n							\n						\n					\n																									\n						\n														\n								\n																										\n							\n							\n								Permaculture Yard Design workshop\n								\n									Apr 25\, 2026								\n								\n									\n                    Farmers Market with fresh local grown produce\, vendors\, food\, and more. Let's support our community!
URL:https://www.spacesofopportunity.org/events/permaculture-workshop/
CATEGORIES:Events,Workshop & Classes
ATTACH;FMTTYPE=image/jpeg:https://www.spacesofopportunity.org/wp-content/uploads/2026/01/ABOVEAZ-0627-scaled.jpg
END:VEVENT
END:VCALENDAR